BEGIN:VCALENDAR
VERSION:2.0
PRODID:-//WCASA - ECPv6.15.20//NONSGML v1.0//EN
CALSCALE:GREGORIAN
METHOD:PUBLISH
X-WR-CALNAME:WCASA
X-ORIGINAL-URL:https://www.wcasa.org
X-WR-CALDESC:Events for WCASA
REFRESH-INTERVAL;VALUE=DURATION:PT1H
X-Robots-Tag:noindex
X-PUBLISHED-TTL:PT1H
BEGIN:VTIMEZONE
TZID:America/Chicago
BEGIN:DAYLIGHT
TZOFFSETFROM:-0600
TZOFFSETTO:-0500
TZNAME:CDT
DTSTART:20220313T080000
END:DAYLIGHT
BEGIN:STANDARD
TZOFFSETFROM:-0500
TZOFFSETTO:-0600
TZNAME:CST
DTSTART:20221106T070000
END:STANDARD
BEGIN:DAYLIGHT
TZOFFSETFROM:-0600
TZOFFSETTO:-0500
TZNAME:CDT
DTSTART:20230312T080000
END:DAYLIGHT
BEGIN:STANDARD
TZOFFSETFROM:-0500
TZOFFSETTO:-0600
TZNAME:CST
DTSTART:20231105T070000
END:STANDARD
BEGIN:DAYLIGHT
TZOFFSETFROM:-0600
TZOFFSETTO:-0500
TZNAME:CDT
DTSTART:20240310T080000
END:DAYLIGHT
BEGIN:STANDARD
TZOFFSETFROM:-0500
TZOFFSETTO:-0600
TZNAME:CST
DTSTART:20241103T070000
END:STANDARD
END:VTIMEZONE
BEGIN:VEVENT
DTSTART;TZID=America/Chicago:20230206T130000
DTEND;TZID=America/Chicago:20230223T153000
DTSTAMP:20260423T081006
CREATED:20221223T184547Z
LAST-MODIFIED:20230106T224203Z
UID:4202-1675688400-1677166200@www.wcasa.org
SUMMARY:February 2023 Sexual Assault Victim Advocacy School (Online via Zoom)
DESCRIPTION:Dates and Times: 1pm-3:30pm \nMonday -Thursday \nFebruary 6-9\, 13-16\, and 20-23 \nClick Here to Register \nSAVAS addresses the basics of being a victim advocate – answering the crisis line\, providing individual and systems advocacy and providing outreach in your community. We are adapting sessions and activities to fit the constraints of web-based learning\, while striving to provide a similar experience to in-person events. \nLog-in instructions will be sent along with registration confirmation. \nThis opportunity is being offered to staff of WCASA member Sexual Assault Service Providers (SASPs) for no fee. The registration fee for staff of other organizations serving sexual assault survivors is $300 for the entire training.  \nIf you have any questions\, please contact Vanessa Mauss – Office/Training Coordinator at vanessam@wcasa.org
URL:https://www.wcasa.org/event/february-2023-sexual-assault-victim-advocacy-school-online-via-zoom/
END:VEVENT
END:VCALENDAR