BEGIN:VCALENDAR
VERSION:2.0
PRODID:-//WCASA - ECPv6.15.20//NONSGML v1.0//EN
CALSCALE:GREGORIAN
METHOD:PUBLISH
X-ORIGINAL-URL:https://www.wcasa.org
X-WR-CALDESC:Events for WCASA
REFRESH-INTERVAL;VALUE=DURATION:PT1H
X-Robots-Tag:noindex
X-PUBLISHED-TTL:PT1H
BEGIN:VTIMEZONE
TZID:America/Chicago
BEGIN:DAYLIGHT
TZOFFSETFROM:-0600
TZOFFSETTO:-0500
TZNAME:CDT
DTSTART:20220313T080000
END:DAYLIGHT
BEGIN:STANDARD
TZOFFSETFROM:-0500
TZOFFSETTO:-0600
TZNAME:CST
DTSTART:20221106T070000
END:STANDARD
BEGIN:DAYLIGHT
TZOFFSETFROM:-0600
TZOFFSETTO:-0500
TZNAME:CDT
DTSTART:20230312T080000
END:DAYLIGHT
BEGIN:STANDARD
TZOFFSETFROM:-0500
TZOFFSETTO:-0600
TZNAME:CST
DTSTART:20231105T070000
END:STANDARD
BEGIN:DAYLIGHT
TZOFFSETFROM:-0600
TZOFFSETTO:-0500
TZNAME:CDT
DTSTART:20240310T080000
END:DAYLIGHT
BEGIN:STANDARD
TZOFFSETFROM:-0500
TZOFFSETTO:-0600
TZNAME:CST
DTSTART:20241103T070000
END:STANDARD
END:VTIMEZONE
BEGIN:VEVENT
DTSTART;VALUE=DATE:20230401
DTEND;VALUE=DATE:20230501
DTSTAMP:20260425T075342
CREATED:20230207T223743Z
LAST-MODIFIED:20230331T214055Z
UID:4231-1680307200-1682899199@www.wcasa.org
SUMMARY:Sexual Assault Awareness Month
DESCRIPTION:The theme of Sexual Assault Awareness Month 2023 is “Drawing Connections: Prevention Demands Equity.” This April’s campaign calls on all individuals\, communities\, organizations\, and institutions to change ourselves and the systems surrounding us to build racial equity and respect. (NSVRC SAAM)
URL:https://www.wcasa.org/event/sexual-assault-awareness-month/
END:VEVENT
BEGIN:VEVENT
DTSTART;VALUE=DATE:20230405
DTEND;VALUE=DATE:20230428
DTSTAMP:20260425T075342
CREATED:20230320T194101Z
LAST-MODIFIED:20230320T194101Z
UID:4268-1680652800-1682639999@www.wcasa.org
SUMMARY:Embrace SAAM Event: What Were You Wearing Survivor Art Exhibit
DESCRIPTION:Throughout the month of April Embrace will host the second annual “What Were you Wearing?” Survivor Art Exhibit on display at the University Wisconsin Eau-Claire – Barron County. This self-guided exhibit includes short stories from survivors with recreations of the outfits they were wearing when sexually assaulted. This exhibit puts on display the simple yet powerful message that sexual assault is never the survivor’s fault\, no matter what they were wearing. \nEveryone is invited to experience the exhibit at the UWEC – BC Fine Arts Gallery April 5 – April 27\, 2023.
URL:https://www.wcasa.org/event/embrace-saam-event-what-were-you-wearing-survivor-art-exhibit-3/
LOCATION:UWEC-BC Fine Arts Center\, 1800 College Dr\, Rice Lake\, WI\, 54868\, United States
ORGANIZER;CN="Embrace":MAILTO:liza@embracewi.org
END:VEVENT
BEGIN:VEVENT
DTSTART;TZID=America/Chicago:20230427T150000
DTEND;TZID=America/Chicago:20230427T180000
DTSTAMP:20260425T075342
CREATED:20230328T185330Z
LAST-MODIFIED:20230328T185330Z
UID:4298-1682607600-1682618400@www.wcasa.org
SUMMARY:Milwaukee Center for Children and Youth SAAM Event: Camping & Open House
DESCRIPTION:Open house of new office: April 27th Scrunchies and Keychain alarms distribution to local colleges\, hush schools and restaurants/bars.
URL:https://www.wcasa.org/event/milwaukee-center-for-children-and-youth-saam-event-camping-open-house/
LOCATION:MCCY Office\, 317 W National Ave\, Milwaukee\, WI\, 53204\, United States
ORGANIZER;CN="Milwaukee Center for Children and Youth":MAILTO:alma@mccy.org
END:VEVENT
BEGIN:VEVENT
DTSTART;TZID=America/Chicago:20230427T170000
DTEND;TZID=America/Chicago:20230427T200000
DTSTAMP:20260425T075342
CREATED:20230331T212552Z
LAST-MODIFIED:20230331T212552Z
UID:4332-1682614800-1682625600@www.wcasa.org
SUMMARY:The Women's Community SAAM Event: We Step Into the Light Art Exhibit Open House
DESCRIPTION:Enjoy art work created by volunteer survivors who collaborated together through We Step Into the Light\, a project raising awareness about sexual assault\, relationship and gender based violence\, and stalking. Artists are paired with survivors who act as a muse for the art created. All artwork focuses on celebrating survivors and their ambition\, goals\, and passions of the survivor. Food and refreshments will be provided. Mingle while enjoying art\, music and food. A formal presentation on the project and artwork will take place at 5:45pm.
URL:https://www.wcasa.org/event/the-womens-community-saam-event-we-step-into-the-light-art-exhibit-open-house/
LOCATION:UWSP at Wausau\, 625 Stewart Ave\, Wausau\, WI\, 54401\, United States
ORGANIZER;CN="The Women's Community":MAILTO:Jessica@womenscommunity.org
END:VEVENT
BEGIN:VEVENT
DTSTART;TZID=America/Chicago:20230427T173000
DTEND;TZID=America/Chicago:20230427T193000
DTSTAMP:20260425T075342
CREATED:20230331T212901Z
LAST-MODIFIED:20230331T212901Z
UID:4335-1682616600-1682623800@www.wcasa.org
SUMMARY:RCC Sexual Violence Resource Center SAAM Event: UW Safer Bar Open Session
DESCRIPTION:We will be hosting an open session Safer Bar training for UW students who work in the service industry!
URL:https://www.wcasa.org/event/rcc-sexual-violence-resource-center-saam-event-uw-safer-bar-open-session/
LOCATION:Fresh Market 2nd Floor Event Space\, 703 University Avenue\, Madison\, WI\, 53715\, United States
END:VEVENT
END:VCALENDAR