BEGIN:VCALENDAR
VERSION:2.0
PRODID:-//WCASA - ECPv6.15.20//NONSGML v1.0//EN
CALSCALE:GREGORIAN
METHOD:PUBLISH
X-ORIGINAL-URL:https://www.wcasa.org
X-WR-CALDESC:Events for WCASA
REFRESH-INTERVAL;VALUE=DURATION:PT1H
X-Robots-Tag:noindex
X-PUBLISHED-TTL:PT1H
BEGIN:VTIMEZONE
TZID:America/Chicago
BEGIN:DAYLIGHT
TZOFFSETFROM:-0600
TZOFFSETTO:-0500
TZNAME:CDT
DTSTART:20230312T080000
END:DAYLIGHT
BEGIN:STANDARD
TZOFFSETFROM:-0500
TZOFFSETTO:-0600
TZNAME:CST
DTSTART:20231105T070000
END:STANDARD
BEGIN:DAYLIGHT
TZOFFSETFROM:-0600
TZOFFSETTO:-0500
TZNAME:CDT
DTSTART:20240310T080000
END:DAYLIGHT
BEGIN:STANDARD
TZOFFSETFROM:-0500
TZOFFSETTO:-0600
TZNAME:CST
DTSTART:20241103T070000
END:STANDARD
BEGIN:DAYLIGHT
TZOFFSETFROM:-0600
TZOFFSETTO:-0500
TZNAME:CDT
DTSTART:20250309T080000
END:DAYLIGHT
BEGIN:STANDARD
TZOFFSETFROM:-0500
TZOFFSETTO:-0600
TZNAME:CST
DTSTART:20251102T070000
END:STANDARD
END:VTIMEZONE
BEGIN:VEVENT
DTSTART;VALUE=DATE:20240401
DTEND;VALUE=DATE:20240501
DTSTAMP:20260422T104125
CREATED:20240318T173813Z
LAST-MODIFIED:20240318T173813Z
UID:4571-1711929600-1714521599@www.wcasa.org
SUMMARY:UW-Madison UHS Survivor Services SAAM Event: Reflect: Art and History Gallery
DESCRIPTION:April 1st-30th: An art and history gallery spotlighting significant historical events related to campus sexual assault activism over the last 50 years alongside art by student survivors. This event runs all day every day throughout April.
URL:https://www.wcasa.org/event/uw-madison-uhs-survivor-services-saam-event-reflect-art-and-history-gallery/
LOCATION:Hub Central and Image Lab Galleries\, Discovery Building\, 330 N Orchard Street\, Madison\, WI\, 53715\, United States
ORGANIZER;CN="UW-Madison UHS Survivor Services":MAILTO:leaann.harris@wisc.edu
END:VEVENT
END:VCALENDAR