BEGIN:VCALENDAR
VERSION:2.0
PRODID:-//WCASA - ECPv6.15.20//NONSGML v1.0//EN
CALSCALE:GREGORIAN
METHOD:PUBLISH
X-ORIGINAL-URL:https://www.wcasa.org
X-WR-CALDESC:Events for WCASA
REFRESH-INTERVAL;VALUE=DURATION:PT1H
X-Robots-Tag:noindex
X-PUBLISHED-TTL:PT1H
BEGIN:VTIMEZONE
TZID:America/Chicago
BEGIN:DAYLIGHT
TZOFFSETFROM:-0600
TZOFFSETTO:-0500
TZNAME:CDT
DTSTART:20210314T080000
END:DAYLIGHT
BEGIN:STANDARD
TZOFFSETFROM:-0500
TZOFFSETTO:-0600
TZNAME:CST
DTSTART:20211107T070000
END:STANDARD
BEGIN:DAYLIGHT
TZOFFSETFROM:-0600
TZOFFSETTO:-0500
TZNAME:CDT
DTSTART:20220313T080000
END:DAYLIGHT
BEGIN:STANDARD
TZOFFSETFROM:-0500
TZOFFSETTO:-0600
TZNAME:CST
DTSTART:20221106T070000
END:STANDARD
BEGIN:DAYLIGHT
TZOFFSETFROM:-0600
TZOFFSETTO:-0500
TZNAME:CDT
DTSTART:20230312T080000
END:DAYLIGHT
BEGIN:STANDARD
TZOFFSETFROM:-0500
TZOFFSETTO:-0600
TZNAME:CST
DTSTART:20231105T070000
END:STANDARD
END:VTIMEZONE
BEGIN:VEVENT
DTSTART;TZID=America/Chicago:20220801T130000
DTEND;TZID=America/Chicago:20220804T153000
DTSTAMP:20260421T063333
CREATED:20220712T184237Z
LAST-MODIFIED:20220712T184434Z
UID:4091-1659358800-1659627000@www.wcasa.org
SUMMARY:August 2022 Sexual Assault Victim Advocacy School
DESCRIPTION:Dates and Times: 1pm-3:30pm \nMonday -Thursday \nAugust 1-4\, 8-11\, 15-18 \nClick Here to Register \nSAVAS addresses the basics of being a victim advocate – answering the crisis line\, providing individual and systems advocacy and providing outreach in your community. We are adapting sessions and activities to fit the constraints of web-based learning\, while striving to provide a similar experience to in-person events. \nLog-in instructions will be sent along with registration confirmation. \nThis opportunity is being offered to staff of WCASA member Sexual Assault Service Providers (SASPs) for no fee. The registration fee for staff of other organizations serving sexual assault survivors is $300 for the entire training.  \nIf you have any questions\, please contact Vanessa Mauss – Office/Training Coordinator at vanessam@wcasa.org
URL:https://www.wcasa.org/event/august-2022-sexual-assault-victim-advocacy-school/
LOCATION:zoom
END:VEVENT
BEGIN:VEVENT
DTSTART;TZID=America/Chicago:20220808T130000
DTEND;TZID=America/Chicago:20220811T153000
DTSTAMP:20260421T063333
CREATED:20220712T184350Z
LAST-MODIFIED:20220712T184350Z
UID:4092-1659963600-1660231800@www.wcasa.org
SUMMARY:August 2022 Sexual Assault Victim Advocacy School
DESCRIPTION:Registration is now open for the August 2022 online Sexual Assault Victim Advocacy School \nDates and Times: 1pm-3:30pm \nMonday -Thursday \nAugust 1-4\, 8-11\, 15-18 \nClick Here to Register \nSAVAS addresses the basics of being a victim advocate – answering the crisis line\, providing individual and systems advocacy and providing outreach in your community. We are adapting sessions and activities to fit the constraints of web-based learning\, while striving to provide a similar experience to in-person events. \nLog-in instructions will be sent along with registration confirmation. \nThis opportunity is being offered to staff of WCASA member Sexual Assault Service Providers (SASPs) for no fee. The registration fee for staff of other organizations serving sexual assault survivors is $300 for the entire training.  \nIf you have any questions\, please contact Vanessa Mauss – Office/Training Coordinator at vanessam@wcasa.org
URL:https://www.wcasa.org/event/august-2022-sexual-assault-victim-advocacy-school-2/
LOCATION:zoom
END:VEVENT
BEGIN:VEVENT
DTSTART;TZID=America/Chicago:20220815T130000
DTEND;TZID=America/Chicago:20220818T153000
DTSTAMP:20260421T063333
CREATED:20220712T184541Z
LAST-MODIFIED:20220712T184541Z
UID:4093-1660568400-1660836600@www.wcasa.org
SUMMARY:August 2022 Sexual Assault Victim Advocacy School
DESCRIPTION:Registration is now open for the August 2022 online Sexual Assault Victim Advocacy School \nDates and Times: 1pm-3:30pm \nMonday -Thursday \nAugust 1-4\, 8-11\, 15-18 \nClick Here to Register \nSAVAS addresses the basics of being a victim advocate – answering the crisis line\, providing individual and systems advocacy and providing outreach in your community. We are adapting sessions and activities to fit the constraints of web-based learning\, while striving to provide a similar experience to in-person events. \nLog-in instructions will be sent along with registration confirmation. \nThis opportunity is being offered to staff of WCASA member Sexual Assault Service Providers (SASPs) for no fee. The registration fee for staff of other organizations serving sexual assault survivors is $300 for the entire training.  \nIf you have any questions\, please contact Vanessa Mauss – Office/Training Coordinator at vanessam@wcasa.org
URL:https://www.wcasa.org/event/august-2022-sexual-assault-victim-advocacy-school-3/
LOCATION:zoom
END:VEVENT
END:VCALENDAR