BEGIN:VCALENDAR
VERSION:2.0
PRODID:-//WCASA - ECPv6.15.20//NONSGML v1.0//EN
CALSCALE:GREGORIAN
METHOD:PUBLISH
X-ORIGINAL-URL:https://www.wcasa.org
X-WR-CALDESC:Events for WCASA
REFRESH-INTERVAL;VALUE=DURATION:PT1H
X-Robots-Tag:noindex
X-PUBLISHED-TTL:PT1H
BEGIN:VTIMEZONE
TZID:America/Chicago
BEGIN:DAYLIGHT
TZOFFSETFROM:-0600
TZOFFSETTO:-0500
TZNAME:CDT
DTSTART:20230312T080000
END:DAYLIGHT
BEGIN:STANDARD
TZOFFSETFROM:-0500
TZOFFSETTO:-0600
TZNAME:CST
DTSTART:20231105T070000
END:STANDARD
BEGIN:DAYLIGHT
TZOFFSETFROM:-0600
TZOFFSETTO:-0500
TZNAME:CDT
DTSTART:20240310T080000
END:DAYLIGHT
BEGIN:STANDARD
TZOFFSETFROM:-0500
TZOFFSETTO:-0600
TZNAME:CST
DTSTART:20241103T070000
END:STANDARD
BEGIN:DAYLIGHT
TZOFFSETFROM:-0600
TZOFFSETTO:-0500
TZNAME:CDT
DTSTART:20250309T080000
END:DAYLIGHT
BEGIN:STANDARD
TZOFFSETFROM:-0500
TZOFFSETTO:-0600
TZNAME:CST
DTSTART:20251102T070000
END:STANDARD
END:VTIMEZONE
BEGIN:VEVENT
DTSTART;VALUE=DATE:20240305
DTEND;VALUE=DATE:20240308
DTSTAMP:20260422T071005
CREATED:20240123T191618Z
LAST-MODIFIED:20240209T221626Z
UID:4525-1709596800-1709855999@www.wcasa.org
SUMMARY:Sexual Assault Victim Advocacy School (SAVAS)
DESCRIPTION:  \nNote: WI DOJ Office of Crime Victim Services will host a training on Friday March 15th. This day covers the required OCVS training for DOJ-funded programs and staff\, including: Safe at Home program\, Crime Victim Compensation/SAFE Fund\, and Victim Rights. Registration for this day is coordinated by OCVS. Click here to access the OCVS training.
URL:https://www.wcasa.org/event/sexual-assault-victim-advocacy-school-savas-3/
END:VEVENT
BEGIN:VEVENT
DTSTART;VALUE=DATE:20240312
DTEND;VALUE=DATE:20240315
DTSTAMP:20260422T071005
CREATED:20240123T191718Z
LAST-MODIFIED:20240209T221659Z
UID:4528-1710201600-1710460799@www.wcasa.org
SUMMARY:Sexual Assault Victim Advocacy School (SAVAS)
DESCRIPTION:  \nNote: WI DOJ Office of Crime Victim Services will host a training on Friday March 15th. This day covers the required OCVS training for DOJ-funded programs and staff\, including: Safe at Home program\, Crime Victim Compensation/SAFE Fund\, and Victim Rights. Registration for this day is coordinated by OCVS. Click here to access the OCVS training.
URL:https://www.wcasa.org/event/sexual-assault-victim-advocacy-school-savas-4/
END:VEVENT
BEGIN:VEVENT
DTSTART;TZID=America/Chicago:20240315T100000
DTEND;TZID=America/Chicago:20240315T113000
DTSTAMP:20260422T071005
CREATED:20240216T222202Z
LAST-MODIFIED:20240216T222202Z
UID:4541-1710496800-1710502200@www.wcasa.org
SUMMARY:Trapos sucios se lavan en casa: Charlas difíciles
DESCRIPTION:
URL:https://www.wcasa.org/event/trapos-sucios-se-lavan-en-casa-charlas-dificiles/
END:VEVENT
BEGIN:VEVENT
DTSTART;TZID=America/Chicago:20240318T100000
DTEND;TZID=America/Chicago:20240318T110000
DTSTAMP:20260422T071005
CREATED:20240110T191427Z
LAST-MODIFIED:20240110T191427Z
UID:4511-1710756000-1710759600@www.wcasa.org
SUMMARY:Campus Connections Meeting
DESCRIPTION:
URL:https://www.wcasa.org/event/campus-connections-meeting/
END:VEVENT
BEGIN:VEVENT
DTSTART;VALUE=DATE:20240329
DTEND;VALUE=DATE:20240428
DTSTAMP:20260422T071005
CREATED:20240328T175248Z
LAST-MODIFIED:20240328T175248Z
UID:4587-1711670400-1714262399@www.wcasa.org
SUMMARY:Embrace SAAM Event: "What Were You Wearing?" Survivor Art Exhibit
DESCRIPTION:In partnership with the University of WIsconsin-Eau Claire-Barron County (UWEC-BC) Embrace is proud to present the third annual “What Were You Wearing?” Survivor Art Exhibit. This self-guided exhibit features stories and visuals of what survivors were wearing when they were sexually assaulted- a simple yet powerful message that clothing does not equal consent. Exhibit opening\, May 29th at noon where Embrace Program Coordinators will be available to answer questions about services and supports provided to the four-county service area. \n 
URL:https://www.wcasa.org/event/embrace-saam-event-what-were-you-wearing-survivor-art-exhibit-4/
LOCATION:UWEC-BC Fine Arts Center\, 1800 College Dr\, Rice Lake\, WI\, 54868\, United States
ORGANIZER;CN="Embrace":MAILTO:liza@embracewi.org
END:VEVENT
END:VCALENDAR