BEGIN:VCALENDAR
VERSION:2.0
PRODID:-//WCASA - ECPv6.15.20//NONSGML v1.0//EN
CALSCALE:GREGORIAN
METHOD:PUBLISH
X-ORIGINAL-URL:https://www.wcasa.org
X-WR-CALDESC:Events for WCASA
REFRESH-INTERVAL;VALUE=DURATION:PT1H
X-Robots-Tag:noindex
X-PUBLISHED-TTL:PT1H
BEGIN:VTIMEZONE
TZID:America/Chicago
BEGIN:DAYLIGHT
TZOFFSETFROM:-0600
TZOFFSETTO:-0500
TZNAME:CDT
DTSTART:20240310T080000
END:DAYLIGHT
BEGIN:STANDARD
TZOFFSETFROM:-0500
TZOFFSETTO:-0600
TZNAME:CST
DTSTART:20241103T070000
END:STANDARD
BEGIN:DAYLIGHT
TZOFFSETFROM:-0600
TZOFFSETTO:-0500
TZNAME:CDT
DTSTART:20250309T080000
END:DAYLIGHT
BEGIN:STANDARD
TZOFFSETFROM:-0500
TZOFFSETTO:-0600
TZNAME:CST
DTSTART:20251102T070000
END:STANDARD
BEGIN:DAYLIGHT
TZOFFSETFROM:-0600
TZOFFSETTO:-0500
TZNAME:CDT
DTSTART:20260308T080000
END:DAYLIGHT
BEGIN:STANDARD
TZOFFSETFROM:-0500
TZOFFSETTO:-0600
TZNAME:CST
DTSTART:20261101T070000
END:STANDARD
END:VTIMEZONE
BEGIN:VEVENT
DTSTART;VALUE=DATE:20250304
DTEND;VALUE=DATE:20250307
DTSTAMP:20260421T082511
CREATED:20250116T153011Z
LAST-MODIFIED:20250124T214436Z
UID:4711-1741046400-1741305599@www.wcasa.org
SUMMARY:Sexual Assault Victim Advocacy School (Online)
DESCRIPTION:
URL:https://www.wcasa.org/event/sexual-assault-victim-advocacy-school-online/
END:VEVENT
BEGIN:VEVENT
DTSTART;TZID=America/Chicago:20250304T140000
DTEND;TZID=America/Chicago:20250304T153000
DTSTAMP:20260421T082511
CREATED:20250219T190906Z
LAST-MODIFIED:20250219T190906Z
UID:4804-1741096800-1741102200@www.wcasa.org
SUMMARY:Legislative Advocacy Day Virtual Prep Meeting
DESCRIPTION:
URL:https://www.wcasa.org/event/legislative-advocacy-day-virtual-prep-meeting/
END:VEVENT
BEGIN:VEVENT
DTSTART;TZID=America/Chicago:20250310T100000
DTEND;TZID=America/Chicago:20250310T110000
DTSTAMP:20260421T082511
CREATED:20250124T215714Z
LAST-MODIFIED:20250124T215714Z
UID:4745-1741600800-1741604400@www.wcasa.org
SUMMARY:Campus Connections
DESCRIPTION:
URL:https://www.wcasa.org/event/campus-connections-2/
END:VEVENT
BEGIN:VEVENT
DTSTART;VALUE=DATE:20250311
DTEND;VALUE=DATE:20250314
DTSTAMP:20260421T082511
CREATED:20250116T153141Z
LAST-MODIFIED:20250124T214607Z
UID:4712-1741651200-1741910399@www.wcasa.org
SUMMARY:Sexual Assault Victim Advocacy School (Online)
DESCRIPTION:
URL:https://www.wcasa.org/event/sexual-assault-victim-advocacy-school-online-2/
END:VEVENT
BEGIN:VEVENT
DTSTART;VALUE=DATE:20250319
DTEND;VALUE=DATE:20250320
DTSTAMP:20260421T082511
CREATED:20250219T192848Z
LAST-MODIFIED:20250219T192848Z
UID:4807-1742342400-1742428799@www.wcasa.org
SUMMARY:WCASA & End Abuse Legislative Advocacy Day
DESCRIPTION:
URL:https://www.wcasa.org/event/wcasa-end-abuse-legislative-advocacy-day/
END:VEVENT
END:VCALENDAR